BEGIN:VCALENDAR
PRODID:-//AT Content Types//AT Event//EN
VERSION:2.0
METHOD:PUBLISH
BEGIN:VEVENT
DTSTAMP:20260419T185149Z
CREATED:20191011T135038Z
UID:ATEvent-af13bc43c40640b9a8ca6375b11abd7f
LAST-MODIFIED:20191016T105440Z
SUMMARY:Distretto Aerospaziale della Campania: Spazio e Vettori e il rapporto con il mondo dell’industria
DTSTART:20191024T090000Z
DTEND:20191024T110000Z
DESCRIPTION:Proseguono gli appuntamenti di business networking della f
 iliera Automotive con le aziende del Distretto Aerospaziale della Camp
 ania
LOCATION:Spazio Campania - Piazza Fontana/Angolo San Clemente 1\, Milano
CONTACT:gruppi@assolombarda.it
URL:https://stage.assolombarda.it/le-imprese/filiere/filiera-automotive/appuntamenti/la-filiera-automotive-incontra-il-dac-distretto-aerospaziale-della-campania-1
CLASS:PUBLIC
END:VEVENT
END:VCALENDAR
