BEGIN:VCALENDAR
PRODID:-//AT Content Types//AT Event//EN
VERSION:2.0
METHOD:PUBLISH
BEGIN:VEVENT
DTSTAMP:20260419T143432Z
CREATED:20210624T125747Z
UID:ATEvent-c0715950de1e430a8a0e79b1f07c1db8
LAST-MODIFIED:20210706T120115Z
SUMMARY:La mobilità del futuro e le sfide tecnologiche del Settore Automotive
DTSTART:20210706T080000Z
DTEND:20210706T093000Z
DESCRIPTION:In collaborazione con ANFIA un approfondimento sull’evol
 uzione del mercato automotive\, le sfide regolamentari e i nuovi model
 li di mobilità
LOCATION:Webinar
CONTACT:gruppi@assolombarda.it
URL:https://stage.assolombarda.it/le-imprese/filiere/filiera-automotive/appuntamenti/la-mobilita-del-futuro-e-le-sfide-tecnologiche-del-settore-automotive
CLASS:PUBLIC
END:VEVENT
END:VCALENDAR
