BEGIN:VCALENDAR
PRODID:-//AT Content Types//AT Event//EN
VERSION:2.0
METHOD:PUBLISH
BEGIN:VEVENT
DTSTAMP:20260419T131445Z
CREATED:20170302T142410Z
UID:ATEvent-934c6075d3614f9b933684effaa146d8
LAST-MODIFIED:20170627T112724Z
SUMMARY:Calendario 2016 riunioni Filiera Automotive
DTSTART:20160412T080000Z
DTEND:20160420T100000Z
LOCATION:Assolombarda Confindustria Milano Monza e Brianza (sala Isotta Fraschini\, 3p) – via Pantano 9\, Milano
CATEGORIES:riunione, Filiere.Filiera Automotive, Filiere
CLASS:PUBLIC
END:VEVENT
END:VCALENDAR
