BEGIN:VCALENDAR
PRODID:-//AT Content Types//AT Event//EN
VERSION:2.0
METHOD:PUBLISH
BEGIN:VEVENT
DTSTAMP:20260419T131450Z
CREATED:20180118T111133Z
UID:ATEvent-c2ec2a5f35994a408690d60599604a97
LAST-MODIFIED:20181130T111810Z
SUMMARY:Calendario 2018 riunioni Filiera Automotive
DTSTART:20180101T080000Z
DTEND:20181222T160000Z
LOCATION:Da definire
CATEGORIES:riunione, Filiere.Filiera Automotive, Filiere
CLASS:PUBLIC
END:VEVENT
END:VCALENDAR
