BEGIN:VCALENDAR
PRODID:-//AT Content Types//AT Event//EN
VERSION:2.0
METHOD:PUBLISH
BEGIN:VEVENT
DTSTAMP:20260419T131450Z
CREATED:20190220T110728Z
UID:ATEvent-d8d75551f18e477094b685246bb3c0c0
LAST-MODIFIED:20210224T153646Z
SUMMARY:Calendario 2019 riunioni Filiera Automotive
DTSTART:20190101T073000Z
DTEND:20191231T163000Z
LOCATION:da definire
CATEGORIES:riunione, Filiere.Filiera Automotive, Filiere
CLASS:PUBLIC
END:VEVENT
END:VCALENDAR
