BEGIN:VCALENDAR
PRODID:-//AT Content Types//AT Event//EN
VERSION:2.0
METHOD:PUBLISH
BEGIN:VEVENT
DTSTAMP:20260419T131500Z
CREATED:20201104T081053Z
UID:ATEvent-0228d1360d4947adb24cd2e3c839327d
LAST-MODIFIED:20210824T142056Z
SUMMARY:Calendario 2020 riunioni Filiera Automotive
DTSTART:20200101T080000Z
DTEND:20201231T170000Z
LOCATION:da definire
CATEGORIES:riunione, Filiere.Filiera Automotive, Filiere
CLASS:PUBLIC
END:VEVENT
END:VCALENDAR
