BEGIN:VCALENDAR
PRODID:-//AT Content Types//AT Event//EN
VERSION:2.0
METHOD:PUBLISH
BEGIN:VEVENT
DTSTAMP:20260419T131500Z
CREATED:20210824T142200Z
UID:ATEvent-765aede429264f39982cf5ec0b0c56ab
LAST-MODIFIED:20220207T104056Z
SUMMARY:Calendario 2021 riunioni Filiera Automotive
DTSTART:20210101T080000Z
DTEND:20211231T170000Z
LOCATION:da definire
CATEGORIES:riunione, Filiere.Filiera Automotive, Filiere
CLASS:PUBLIC
END:VEVENT
END:VCALENDAR
