BEGIN:VCALENDAR
PRODID:-//AT Content Types//AT Event//EN
VERSION:2.0
METHOD:PUBLISH
BEGIN:VEVENT
DTSTAMP:20260419T131612Z
CREATED:20220207T130450Z
UID:ATEvent-50660be0da124632ae4aa10a6d698a32
LAST-MODIFIED:20221018T110039Z
SUMMARY:Calendario 2022 riunioni Filiera Automotive
DTSTART:20220101T080000Z
DTEND:20221231T170000Z
LOCATION:da definire
CATEGORIES:riunione, Filiere.Filiera Automotive, Filiere
CLASS:PUBLIC
END:VEVENT
END:VCALENDAR
