BEGIN:VCALENDAR
PRODID:-//AT Content Types//AT Event//EN
VERSION:2.0
METHOD:PUBLISH
BEGIN:VEVENT
DTSTAMP:20260419T131537Z
CREATED:20230601T105133Z
UID:ATEvent-0d85ec403717406eb91d7055dff948ee
LAST-MODIFIED:20231030T141540Z
SUMMARY:Calendario 2023 riunioni Filiera Automotive
DTSTART:20230101T073000Z
DTEND:20231231T175000Z
LOCATION:da definire
CATEGORIES:riunione, Filiere.Filiera Automotive, Filiere
CONTACT:gruppi@assolombarda.it
CLASS:PUBLIC
END:VEVENT
END:VCALENDAR
