BEGIN:VCALENDAR
PRODID:-//AT Content Types//AT Event//EN
VERSION:2.0
METHOD:PUBLISH
BEGIN:VEVENT
DTSTAMP:20260419T143545Z
CREATED:20190304T145517Z
UID:ATEvent-4c1681859c4a4a6c985f47e4d60c8412
LAST-MODIFIED:20190430T105622Z
SUMMARY:Visita al Vodafone Experience Center dedicata alla Filiera Automotive di Assolombarda e al Gruppo Tecnico Politiche Industriali e Impresa 4.0
DTSTART:20190404T123000Z
DTEND:20190404T150000Z
DESCRIPTION:Appuntamento dedicato alle ultime innovazioni di Vodafone 
 in ambito 4.0 e un'opportunità di networking per le aziende associate
 .
LOCATION:Vodafone Experience Center – Via Lorenteggio 240\, Milano
CONTACT:gruppi@assolombarda.it
URL:https://stage.assolombarda.it/le-imprese/filiere/filiera-automotive/informazioni/visita-al-vodafone-experience-center-dedicata-alla-filiera-automotive-di-assolombarda
CLASS:PUBLIC
END:VEVENT
END:VCALENDAR
