BEGIN:VCALENDAR
PRODID:-//AT Content Types//AT Event//EN
VERSION:2.0
METHOD:PUBLISH
BEGIN:VEVENT
DTSTAMP:20260419T185409Z
CREATED:20200113T181745Z
UID:ATEvent-c19ca60041174e7eaedbd35fbbd198c1
LAST-MODIFIED:20200224T104805Z
SUMMARY:La Filiera Automotive di Assolombarda incontra ATM Azienda Trasporti Milanesi SpA
DTSTART:20200227T140000Z
DTEND:20200227T160000Z
DESCRIPTION:ANNULLATA IN ATTESA DI RIPROGRAMMAZIONE - La Filiera Autom
 otive di Assolombarda ospite di ATM Azienda Trasporti Milanesi SpA
LOCATION:ATM Spa - Via Monte Rosa 89 (Fermata Lotto M1 – M5)\, Milano
CONTACT:gruppi@assolombarda.it
URL:https://stage.assolombarda.it/le-imprese/filiere/filiera-automotive/la-filiera-automotive-di-assolombarda-incontra-atm-azienda-trasporti-milanesi
CLASS:PUBLIC
END:VEVENT
END:VCALENDAR
