BEGIN:VCALENDAR
PRODID:-//AT Content Types//AT Event//EN
VERSION:2.0
METHOD:PUBLISH
BEGIN:VEVENT
DTSTAMP:20260419T143427Z
CREATED:20190110T110702Z
UID:ATEvent-38778682a42746fca087b3fcda78571d
LAST-MODIFIED:20190212T150608Z
SUMMARY:Visita in Metelli dedicata alla Filiera Automotive di Assolombarda
DTSTART:20190213T133000Z
DTEND:20190213T163000Z
DESCRIPTION:Visita allo stabilimento bresciano dell'azienda e opportun
 ità di networking con Metelli per le aziende associate operanti nel s
 ettore automotive
LOCATION:Metelli Group - Via Caduti sul Lavoro 43\, Cologne (Brescia)
CONTACT:gruppi@assolombarda.it
URL:https://stage.assolombarda.it/le-imprese/filiere/filiera-automotive/visita-in-metelli-dedicata-alla-filiera-automotive-di-assolombarda
CLASS:PUBLIC
END:VEVENT
END:VCALENDAR
