BEGIN:VCALENDAR
PRODID:-//AT Content Types//AT Event//EN
VERSION:2.0
METHOD:PUBLISH
BEGIN:VEVENT
DTSTAMP:20260419T143427Z
CREATED:20180115T151823Z
UID:ATEvent-db790abb72bf4a61b17b31f43bb0010c
LAST-MODIFIED:20180123T143459Z
SUMMARY:Visita presso Pirelli dedicata alla Filiera Automotive di Assolombarda
DTSTART:20180221T100000Z
DTEND:20180221T143000Z
DESCRIPTION:Visita allo stabilimento di Settimo Torinese e opportunitÃ
   di networking con Pirelli per le aziende associate operanti nel sett
 ore automotive
LOCATION:Pirelli â€“ Sede Settimo Torinese - Via Brescia 8\, Settimo Torinese
CONTACT:gruppi@assolombarda.it
URL:https://stage.assolombarda.it/le-imprese/filiere/filiera-automotive/visita-presso-pirelli-dedicata-alla-filiera-automotive-di-assolombarda
CLASS:PUBLIC
END:VEVENT
END:VCALENDAR
