BEGIN:VCALENDAR
PRODID:-//AT Content Types//AT Event//EN
VERSION:2.0
METHOD:PUBLISH
BEGIN:VEVENT
DTSTAMP:20260419T124227Z
CREATED:20191004T071721Z
UID:ATEvent-943370d822c247f1912e6c89ca545f13
LAST-MODIFIED:20191016T092527Z
SUMMARY:Visita alla sede logistica di Amazon e opportunità di networking per le aziende della Filiera Largo Consumo
DTSTART:20191025T083000Z
DTEND:20191025T110000Z
LOCATION:Amazon Italia Logistica - Via Dogana Po 2\, Castel San Giovanni (PC)
CONTACT:gruppi@assolombarda.it
URL:https://stage.assolombarda.it/le-imprese/filiere/filiera-largo-consumo/appuntamenti/visita-alla-sede-logistica-di-amazon-e-opportunita-di-networking-per-le-aziende-della-filiera-largo-consumo
CLASS:PUBLIC
END:VEVENT
END:VCALENDAR
