BEGIN:VCALENDAR
PRODID:-//AT Content Types//AT Event//EN
VERSION:2.0
METHOD:PUBLISH
BEGIN:VEVENT
DTSTAMP:20260419T143325Z
CREATED:20181218T122724Z
UID:ATEvent-76b2622296954555b9f217108287d5c5
LAST-MODIFIED:20190205T092638Z
SUMMARY:DOCUMENTAZIONE  - Regno Unito: il settore automotive\, nuove sfide per l’industria italiana.
DTSTART:20190204T083000Z
DTEND:20190204T143000Z
DESCRIPTION:L'incontro\, organizzato in collaborazione con il Consolat
 o Generale britannico di Milano\, ha l'obiettivo di fornire un quadro 
 dell'ambiente business per le imprese che intendono avviare collaboraz
 ioni nel paese e di presentare la missione imprenditoriale in Inghilte
 rra che si terrà a giugno 2019.
LOCATION:- Assolombarda - Sala Falck (piano interrato) - Via Chiaravalle 8\, Milano
CONTACT:assolombardaestero@assolombarda.it
URL:https://stage.assolombarda.it/servizi/internazionalizzazione/appuntamenti/DOCUMENTAZIONE-regno-unito-il-settore-automotive-nuove-sfide-per-l2019industria-italiana
CLASS:PUBLIC
END:VEVENT
END:VCALENDAR
