BEGIN:VCALENDAR
PRODID:-//AT Content Types//AT Event//EN
VERSION:2.0
METHOD:PUBLISH
BEGIN:VEVENT
DTSTAMP:20260419T143247Z
CREATED:20160729T125909Z
UID:ATEvent-8750ebcb2fea4bb68ae5c4720675d691
LAST-MODIFIED:20161007T104139Z
SUMMARY:Business e mobilità elettrica: pionieri oggi e protagonisti domani
DTSTART:20161004T070000Z
DTEND:20161004T110000Z
DESCRIPTION:Il seminario è l'occasione per fare il punto sullo stato 
 dell'arte e sulle prospettive di sviluppo del mercato della mobilità 
 elettrica\, con particolare riferimento alle tecnologie\, ai modelli d
 i business e alle criticità ancora da risolvere.
LOCATION:- Assolombarda Confindustria Milano Monza e Brianza - Sala Falck (piano interrato) - Via Chiaravalle 8\, Milano
CONTACT:gruppi@assolombarda.it
URL:https://stage.assolombarda.it/servizi/mobilita-e-trasporti/appuntamenti/business-e-mobilita-elettrica-pionieri-oggi-e-protagonisti-domani
CLASS:PUBLIC
END:VEVENT
END:VCALENDAR
